BEGIN:VCALENDAR
VERSION:2.0
PRODID:-//eventon.com NONSGML v1.0//EN
CALSCALE:GREGORIAN
METHOD:PUBLISH
BEGIN:VEVENT
UID:69e76c6956485
DTSTAMP:20260421T122409Z
DTSTART:20260510T083000Z
DTEND:20260510T153000Z
LOCATION:Centre Ressourcements - Grande salle Welriekendedreef 45 - 3090 Overijse
SUMMARY:"Quiétude" suivi de l'Atelier "Enchantons-nous !" avec Stéphane Stas (10/5/26)
DESCRIPTION:La journée que propose Stéphane se déroulera en deux parties
  : « Quiétude » (voir description ci-dessous) suivi de l&rsquo;atelier
  « Enchantons-nous ». Les deux parties sont indivisibles. « Quiétude 
 » Profondément imprégné et inspiré par l’œuvre d’Eckhart Tolle\, 
  Stéphane Stas s’emploie à en synthétiser l’essentiel pour nous la l
 ivrer en « acoustique »! 12 tableaux[..]\nhttps://www.ressourcements.be
 /events/quietude-suivi-de-latelier-enchantons-nous-avec-stephane-stas-10-5-
 26/
URL:https://www.ressourcements.be/events/quietude-suivi-de-latelier-enchantons-nous-avec-stephane-stas-10-5-26/
END:VEVENT
END:VCALENDAR