BEGIN:VCALENDAR
VERSION:2.0
PRODID:-//eventon.com NONSGML v1.0//EN
CALSCALE:GREGORIAN
METHOD:PUBLISH
BEGIN:VEVENT
UID:69e887669614f
DTSTAMP:20260422T083134Z
DTSTART:20260321T133000Z
DTEND:20260321T153000Z
LOCATION:Ressourcements : Salle du jardin Welriekendedreef 45 à 3090 Overijse Belgique
SUMMARY:Initiation aux codes sacrés du Tarot de Marseille (Journées des 5 sens - Sam. 21/3/26)
DESCRIPTION:Présentation des ateliers &nbsp; L’atelier est pratique\,  e
 t donc chaque fois unique. Les éléments théoriques sont distillés lors 
 de chaque tirage\,  qui répondra à une question posée par un des partici
 pants. Objectif : découvrir comment mettre ces connaissances sacrées au 
 service de la Conscience dans toutes les dimensions de l’Etre. Comment[..
 ]\nhttps://www.ressourcements.be/events/initiation-aux-codes-sacres-du-taro
 t-de-marseille-journees-des-5-sens-sam-21-3-26/
URL:https://www.ressourcements.be/events/initiation-aux-codes-sacres-du-tarot-de-marseille-journees-des-5-sens-sam-21-3-26/
END:VEVENT
END:VCALENDAR