BEGIN:VCALENDAR
VERSION:2.0
PRODID:-//eventon.com NONSGML v1.0//EN
CALSCALE:GREGORIAN
METHOD:PUBLISH
BEGIN:VEVENT
UID:69e8874ce3d7a
DTSTAMP:20260422T083108Z
DTSTART:20260322T140000Z
DTEND:20260322T160000Z
LOCATION:Ressourcements : Salle Jaune Welriekendedreef 45 à 3090 Overijse Belgique
SUMMARY:Les Clés génétiques - La Voie de l'Alchimie intérieure : Journée des 5 sens (22/3/26)
DESCRIPTION:Présentation de cet outil extraordinaire reçu au début des a
 nnées 2000 par Richard Rudd\,  mystique\,  poète et enseignant anglais\,
   passionné par le Yi King et le Design Humain. Ce sera l&rsquo;occasion d
 e présenter la « Voie de l&rsquo;alchimie intérieure » qui prendra la
  forme d&rsquo;un groupe d&rsquo;évolution prêt à explorer en profondeur
  nos[..]\nhttps://www.ressourcements.be/events/les-cles-genetiques-la-voie-
 de-lalchimie-interieure-journee-des-5-sens-26-3-26/
URL:https://www.ressourcements.be/events/les-cles-genetiques-la-voie-de-lalchimie-interieure-journee-des-5-sens-26-3-26/
END:VEVENT
END:VCALENDAR