BEGIN:VCALENDAR
VERSION:2.0
PRODID:-//eventon.com NONSGML v1.0//EN
CALSCALE:GREGORIAN
METHOD:PUBLISH
BEGIN:VEVENT
UID:69e6d1278e3c8
DTSTAMP:20260421T012143Z
DTSTART:20251015T193000Z
DTEND:20251015T213000Z
LOCATION:Ressourcements : Salle Bleue Welriekendedreef 45 à 3090 Overijse Belgique
SUMMARY:Cercle de chants-médecine et mantras (15/10/25)
DESCRIPTION:Imaginez-vous cocooné.e dans un plaid moelleux et laissez votr
 e espace cœur s’ouvrir à l’Amour\,  à la Joie et nourrir votre essen
 ce profonde par des chants sacrés… Les Chants-médecine ont le pouvoir d
 ’invoquer les éléments\,  les déités\,  les esprits afin d’activer 
 l’auto-guérison en soi\,  de faire monter notre taux vibratoire et[..]\n
 https://www.ressourcements.be/events/cercle-de-chants-medecine-et-mantras-1
 5-10-25/
URL:https://www.ressourcements.be/events/cercle-de-chants-medecine-et-mantras-15-10-25/
END:VEVENT
END:VCALENDAR