BEGIN:VCALENDAR
VERSION:2.0
PRODID:-//eventon.com NONSGML v1.0//EN
CALSCALE:GREGORIAN
METHOD:PUBLISH
BEGIN:VEVENT
UID:69e764dd255a7
DTSTAMP:20260421T115157Z
DTSTART:20240614T170000Z
DTEND:20240614T200000Z
LOCATION:Ressourcements : Salle Bleue Welriekendedreef 45 à 3090 Overijse Belgique
SUMMARY:Cercle de Femmes & Médecine de la rose (14/6/24)
DESCRIPTION:Tisser la parole\,  se raconter\,  s&rsquo;écouter\,  partager
 \,  s&rsquo;inspirer\,  se soutenir\,  se nourrir\,  rester en silence\,  s
 e faire mirroir\,  se découvrir\, &#8230; voici quelques mots qui évoquen
 t la puissance du cerce de parole.Ce cercle de femmes sera soutenu par la m
 édecine de la rose.  Les roses possèdent une géométrie sacrée et une[
 ..]\nhttps://www.ressourcements.be/events/cercle-de-femmes-medecine-de-la-r
 ose-14-6-24/
URL:https://www.ressourcements.be/events/cercle-de-femmes-medecine-de-la-rose-14-6-24/
END:VEVENT
END:VCALENDAR