BEGIN:VCALENDAR
VERSION:2.0
PRODID:-//eventon.com NONSGML v1.0//EN
CALSCALE:GREGORIAN
METHOD:PUBLISH
BEGIN:VEVENT
UID:69e6eafea293f
DTSTAMP:20260421T031158Z
DTSTART:20240912T193000Z
DTEND:20240912T213000Z
LOCATION:Ressourcements : Salle Bleue Welriekendedreef 45 à 3090 Overijse Belgique
SUMMARY:Cercle de chants-médecine et mantras (12/9/24)
DESCRIPTION:Imaginez-vous cocooné.e dans un plaid moelleux et laissez votr
 e espace cœur s&rsquo;ouvrir à l’Amour\,  à la Joie et nourrir votre e
 ssence profonde par des chants sacrés&#8230; Les Chants-médecine ont le p
 ouvoir d’invoquer les éléments\,  les déités\,  les esprits afin d’
 activer l’auto-guérison en soi. Ces chants ouvrent à la guérison\,  ta
 nt[..]\nhttps://www.ressourcements.be/events/cercle-de-chants-medecine-et-m
 antras-12-9-24/
URL:https://www.ressourcements.be/events/cercle-de-chants-medecine-et-mantras-12-9-24/
END:VEVENT
END:VCALENDAR