BEGIN:VCALENDAR
VERSION:2.0
PRODID:-//eventon.com NONSGML v1.0//EN
CALSCALE:GREGORIAN
METHOD:PUBLISH
BEGIN:VEVENT
UID:69ed88a24ff65
DTSTAMP:20260426T033810Z
DTSTART:20240217T193000Z
DTEND:20240217T220000Z
LOCATION:Centre Ressourcements - Grande salle Welriekendedreef 45 - 3090 Overijse
SUMMARY:La sagesse interdite - Conférence & Dédicace (17/2/24)
DESCRIPTION:Pour vous inscrire : https://www.curieuxhasard.com &nbsp;\nhttp
 s://www.ressourcements.be/events/la-sagesse-interdite-conference-dedicace-1
 7-2-24/
URL:https://www.ressourcements.be/events/la-sagesse-interdite-conference-dedicace-17-2-24/
END:VEVENT
END:VCALENDAR