BEGIN:VCALENDAR
VERSION:2.0
PRODID:-//eventon.com NONSGML v1.0//EN
CALSCALE:GREGORIAN
METHOD:PUBLISH
BEGIN:VEVENT
UID:69ebf56ddfe55
DTSTAMP:20260424T225749Z
DTSTART:20230313T170000Z
DTEND:20230313T190000Z
LOCATION:Ressourcements : Salle Bleue Welriekendedreef 45 à 3090 Overijse Belgique
SUMMARY:Présentation des 6 "Voyages Initiatiques" à thème (13/03/2023)
DESCRIPTION:Un rêve\,  un voyage\,  une renaissance ! Chaque voyage propos
 e une renaissance\,  une recréation de soi à découvrir lors d&rsquo;une 
 Présentation et Visualisation de chaque beau Voyage  d&rsquo;expérience
 s à thème\,  au Sahara (Tunisie + Maroc)\,  à Bali\,  au Népal et en In
 de du sud ! Chaque destination correspond à une soif[..]\nhttps://www.ress
 ourcements.be/events/presentation-des-6-voyages-initiatiques-a-theme-13-03-
 2023/
URL:https://www.ressourcements.be/events/presentation-des-6-voyages-initiatiques-a-theme-13-03-2023/
END:VEVENT
END:VCALENDAR