BEGIN:VCALENDAR
VERSION:2.0
PRODID:-//eventon.com NONSGML v1.0//EN
CALSCALE:GREGORIAN
METHOD:PUBLISH
BEGIN:VEVENT
UID:69e62e455e2da
DTSTAMP:20260420T134645Z
DTSTART:20230408T083000Z
DTEND:20230408T140000Z
LOCATION:Ressourcements : Salle du jardin Welriekendedreef 45 à 3090 Overijse Belgique
SUMMARY:Constellations systémiques\,  familiales et mouvement d'âme (8/4/23)
DESCRIPTION: Journées de constellations systémiques\,  familiales et mou
 vements d&rsquo;âme Descriptif : La technique des constellations est une t
 echnique thérapeutique puissante qui nous permet de nous libérer de nos b
 locages inconscients. Ces comportements et ressentis sont perpetués par lo
 yautés familiales inconscientes et peuvent nous empêcher parfois d&rsquo;
 avancer dans la vie. La constellation[..]\nhttps://www.ressourcements.be/ev
 ents/constellations-systemiques-familiales-et-mouvement-dame-8-4-23/
URL:https://www.ressourcements.be/events/constellations-systemiques-familiales-et-mouvement-dame-8-4-23/
END:VEVENT
END:VCALENDAR