BEGIN:VCALENDAR
VERSION:2.0
PRODID:-//eventon.com NONSGML v1.0//EN
CALSCALE:GREGORIAN
METHOD:PUBLISH
BEGIN:VEVENT
UID:69e886e454ee7
DTSTAMP:20260422T082924Z
DTSTART:20230325T080000Z
DTEND:20230325T110000Z
LOCATION:Centre Ressourcements - Grande salle Welriekendedreef 45 - 3090 Overijse
SUMMARY:Chakradance™ (Sam. 25/3/23)
DESCRIPTION:Créée en Australie et aujourd&rsquo;hui présente dans plus d
 e 20 pays\,  CHAKRADANCE™ est la pratique d&rsquo;une danse pour le corps
  et l&rsquo;esprit qui associe mouvement libre yeux fermés\,  musique en r
 ésonance avec les 7 chakras\,  imagerie guidée et dessin d&rsquo;un manda
 la pour aider chacun à retrouver sa véritable essence et[..]\nhttps://www
 .ressourcements.be/events/chakradance-dim-19-2-23/
URL:https://www.ressourcements.be/events/chakradance-dim-19-2-23/
END:VEVENT
END:VCALENDAR