BEGIN:VCALENDAR
VERSION:2.0
PRODID:-//eventon.com NONSGML v1.0//EN
CALSCALE:GREGORIAN
METHOD:PUBLISH
BEGIN:VEVENT
UID:69e95fdaa840d
DTSTAMP:20260422T235506Z
DTSTART:20221008T080000Z
DTEND:20221008T160000Z
LOCATION:Ressourcements : Salle du jardin Welriekendedreef 45 à 3090 Overijse Belgique
SUMMARY:Constellations systémiques\,  familiales et mouvement d'âme (8/10/22)
DESCRIPTION: Journées de constellations systémiques\,  familiales et mou
 vements d&rsquo;âme le 8/10 et le 3/12 Descriptif : La technique des cons
 tellations est une technique thérapeutique puissante qui nous permet de no
 us libérer de nos blocages inconscients. Ces comportements et ressentis so
 nt perpetués par loyautés familiales inconscientes et peuvent nous empêc
 her parfois d&rsquo;avancer dans[..]\nhttps://www.ressourcements.be/events/
 constellations-systemiques-8-10-22/
URL:https://www.ressourcements.be/events/constellations-systemiques-8-10-22/
END:VEVENT
END:VCALENDAR