BEGIN:VCALENDAR
VERSION:2.0
PRODID:-//eventon.com NONSGML v1.0//EN
CALSCALE:GREGORIAN
METHOD:PUBLISH
BEGIN:VEVENT
UID:69e83c55bdb85
DTSTAMP:20260422T031117Z
DTSTART:20221022T120000Z
DTEND:20221022T160000Z
LOCATION:
SUMMARY:Cérémonie Cacao Sacré (22/10/22)
DESCRIPTION:Libère-toi\,  ouvre ton coeur et créons de la beauté ensembl
 e. Reconnections Soins vibratoires Ouverture du coeur Transformation Voyage
  sonore Yoga La suite du voyage aura lieu le samedi 22 octobre 2022 de 14h 
 à 18h. Le chiffre 2 dans la date nous a inspiré l’idée d’une aventur
 e par binôme. Cette[..]\nhttps://www.ressourcements.be/events/ceremonie-ca
 cao-sacre-22-10-22/
URL:https://www.ressourcements.be/events/ceremonie-cacao-sacre-22-10-22/
END:VEVENT
END:VCALENDAR