BEGIN:VCALENDAR
VERSION:2.0
PRODID:-//eventon.com NONSGML v1.0//EN
CALSCALE:GREGORIAN
METHOD:PUBLISH
BEGIN:VEVENT
UID:69ed1f75349ba
DTSTAMP:20260425T200925Z
DTSTART:20220601T170000Z
DTEND:20220601T193000Z
LOCATION:Ressourcements : Salle Jaune Welriekendedreef 45 Ã  3090 Overijse Belgique
SUMMARY:Programme de rÃ©duction du stress par la Pleine Conscience (Nouveau cycle MBSR) - d'Avril Ã  Juin 2022
DESCRIPTION:De quoi sâ€™agit-ilÂ ? Il sâ€™agit dâ€™un programme structurÃ© 
 et progressif de Â«Â RÃ©duction du Stress basÃ© sur la Pleine ConscienceÂ Â
 » (MBSR) mis au point par J. Kabat-Zinn de lâ€™UniversitÃ© du Massachusetts
  il y a plus de 40 ans\,  enseignÃ© Ã  travers le monde et dont les bienfai
 ts sont validÃ©s scientifiquement\,  y[..]\nhttps://www.ressourcements.be/e
 vents/programme-de-reduction-du-stress-par-la-pleine-conscience-mbsr-2022-2
 /var/ri-5.l-L1
URL:https://www.ressourcements.be/events/programme-de-reduction-du-stress-par-la-pleine-conscience-mbsr-2022-2/var/ri-5.l-L1
END:VEVENT
END:VCALENDAR