BEGIN:VCALENDAR
VERSION:2.0
PRODID:-//eventon.com NONSGML v1.0//EN
CALSCALE:GREGORIAN
METHOD:PUBLISH
BEGIN:VEVENT
UID:69e99a00e0a22
DTSTAMP:20260423T040312Z
DTSTART:20220331T163000Z
DTEND:20220331T190000Z
LOCATION:Ressourcements : Salle Bleue Welriekendedreef 45 à 3090 Overijse Belgique
SUMMARY:L'Art de manger en pleine conscience (cycle de 8 sessions)
DESCRIPTION:Cycle de 8 sessions + une journée de retraite silencieuse Date
 s : jeudis : 31/3 &#8211; 14 et 28/4 &#8211; 5 et 19/5 &#8211; 2 et 23 et 3
 0/6 de 18h30 à 2 + le 12/6 de 10h à 16h Tarif : 495€ (8 sessions + une 
 journée + matériel)\nhttps://www.ressourcements.be/events/lart-de-manger-
 en-pleine-conscience-cycle-de-8-sessions/
URL:https://www.ressourcements.be/events/lart-de-manger-en-pleine-conscience-cycle-de-8-sessions/
END:VEVENT
END:VCALENDAR