BEGIN:VCALENDAR
VERSION:2.0
PRODID:-//eventon.com NONSGML v1.0//EN
CALSCALE:GREGORIAN
METHOD:PUBLISH
BEGIN:VEVENT
UID:69e8d58933a45
DTSTAMP:20260422T140457Z
DTSTART:20220224T170000Z
DTEND:20220224T200000Z
LOCATION:Ressourcements : Cabinet rouge Welriekendedreef 45 3090 Overijse
SUMMARY:Reiki : Atelier-découverte gratuit et expérience du Reiki (24/02/22)
DESCRIPTION:Soyez mon invité(e) ! Venez découvrir gratuitement le soin Re
 iki\,  méthode de « réception de l&rsquo;énergie vitale » par laquel
 le le praticien accompagne et facilite le processus de retour à l&rsquo;é
 quilibre. Pendant 30 minutes\,  je répondrai à vos questions et vous fera
 i un soin énergétique personnalisé. Chaque personne expérimente le Reik
 i différemment[..]\nhttps://www.ressourcements.be/events/reiki-atelier-dec
 ouverte-gratuit-et-experience-du-reiki-24-02-22/
URL:https://www.ressourcements.be/events/reiki-atelier-decouverte-gratuit-et-experience-du-reiki-24-02-22/
END:VEVENT
END:VCALENDAR