BEGIN:VCALENDAR
VERSION:2.0
PRODID:-//eventon.com NONSGML v1.0//EN
CALSCALE:GREGORIAN
METHOD:PUBLISH
BEGIN:VEVENT
UID:69ea3ad1c9d66
DTSTAMP:20260423T152921Z
DTSTART:20220109T103000Z
DTEND:20220109T163000Z
LOCATION:Ressourcements : Salle Jaune Welriekendedreef 45 à 3090 Overijse Belgique
SUMMARY:Le Féminin Sacré (Nouveau Cycle 2021-2022)
DESCRIPTION:Parcours de 9 Ateliers d&rsquo;explorations du Féminin sacré 
 et de ses archétypes dévoilé par la sagesse animale !\nhttps://www.resso
 urcements.be/events/le-feminin-sacre-nouveau-cycle-2021-2022/var/ri-3.l-L1
URL:https://www.ressourcements.be/events/le-feminin-sacre-nouveau-cycle-2021-2022/var/ri-3.l-L1
END:VEVENT
END:VCALENDAR